BEGIN:VCALENDAR
VERSION:2.0
PRODID:-//Tukios.com/
BEGIN:VEVENT
UID:f13f0cbe-c740-4dad-8397-1fd4c8239298@www.emmersonbartlett.com
DTSTAMP:20260421T231133Z
DTSTART:20260427T200000Z
DTEND:20260427T210000Z
SUMMARY:Memorial Service
DESCRIPTION:
URL:https://www.emmersonbartlett.com/obituaries/nami-messenger
LOCATION: 703 Brookside Ave  Redlands CA 92373
GEO:34.0519365;-117.190891
END:VEVENT
END:VCALENDAR