BEGIN:VCALENDAR
VERSION:2.0
PRODID:-//Tukios.com/
BEGIN:VEVENT
UID:ddf94c50-aa46-434b-bdfe-11fa74ab27f3@www.emmersonbartlett.com
DTSTAMP:20260420T190042Z
DTSTART:20260502T210000Z
DTEND:20260502T220000Z
SUMMARY:Celebration of Life
DESCRIPTION:
URL:https://www.emmersonbartlett.com/obituaries/duane-carney
LOCATION: 703 Brookside Ave  Redlands CA 92373
GEO:34.0519365;-117.190891
END:VEVENT
END:VCALENDAR